BEGIN:VCALENDAR
VERSION:2.0
PRODID:-//Be International Students - ECPv6.5.0//NONSGML v1.0//EN
CALSCALE:GREGORIAN
METHOD:PUBLISH
X-WR-CALNAME:Be International Students
X-ORIGINAL-URL:https://bemadrid.com
X-WR-CALDESC:Eventos para Be International Students
REFRESH-INTERVAL;VALUE=DURATION:PT1H
X-Robots-Tag:noindex
X-PUBLISHED-TTL:PT1H
BEGIN:VTIMEZONE
TZID:Europe/Madrid
BEGIN:DAYLIGHT
TZOFFSETFROM:+0100
TZOFFSETTO:+0200
TZNAME:CEST
DTSTART:20240331T010000
END:DAYLIGHT
BEGIN:STANDARD
TZOFFSETFROM:+0200
TZOFFSETTO:+0100
TZNAME:CET
DTSTART:20241027T010000
END:STANDARD
END:VTIMEZONE
BEGIN:VEVENT
DTSTART;TZID=Europe/Madrid:20240427T193000
DTEND;TZID=Europe/Madrid:20240427T213000
DTSTAMP:20260426T014557
CREATED:20231213T184629Z
LAST-MODIFIED:20240326T140740Z
UID:9449-1714246200-1714253400@bemadrid.com
SUMMARY:Los secretos de El Guernica de Picasso - 27 de Abril.
DESCRIPTION:¡Ve a conocer los secretos de El Guernica de Picasso en el Museo Reina Sofía con Be Intenational Students! \nBe International Students\, en su programa “Be Art” te propone una visita guiada en inglés y castellano\, en el Museo Nacional Reina Sofía\, para conocer en profundidad obra de el maestro Pablo Picasso\, centrándonos en “El Guernica”\, de la mano de nuestra guía de estudiantes. \n“El Guernica” está considerada como uno de los mayores alegatos artísticos contra la barbarie y la guerra. Es una obra cargada de secretos y curiosidades que se ha convertido la expresión crítica artística mas importante a la Guerra Civil española y una de las obras mas emblemáticas\, admiradas y visitadas del arte español del siglo XX. \nUna obra de espectaculares dimensiones (349\,3 x 776\,6 cm) realizada por encargo para el pabellón republicano de París en la Exposición Internacional de París de 1937 que posteriormente viajó a Gran Bretaña y a EEUU – donde estuvo expuesta en el MoMA – hasta su llegada a España tras la dictadura franquista en 1981. \nNuestra visita a la obra y los bocetos y documentos fotográficos sobre su realización\, te ayudará a conocer los grandes secretos de esta obra ¿Sabes cuánto cobró el artista por esta obra? ¿Sabrías reconocer a las mujeres que aparecen en esta obra? ¿Porqué una de ellas arde en llamas? ¿Qué significado tiene esa lámpara que corona el cuadro?… \nTodo esto y mucho más de la mano de nuestra guía experta del programa de “Be Art”- Melina Fernández. \nDespués\, en el evento “Comentamos la obra”\, nos tomaremos una consumición y tapa en un local próximo para resolver dudas y someter a debate la obra. \nPrograma: \n\n7:15 PM Encuentro en la entrada principal del Museo Reina Sofía\n7:30 PM Comienzo de la visita guiada (Inglés y castellano)\n9:00 PM “Comentando la obra” con una consumición* y tapa en un local próximo. (* vino\, refresco o cerveza)\n10:00 PM Fin del evento\n\nIncluye: \n\nEntrada al Museo Reina Sofía\nVisita guiada (Inglés y Castellano) por una estudiante experta en Arte\nEvento “Comentando la obra”\nConsumición (vino\, refresco o cerveza) y tapa\nStaff Be\n\n  \nDiscover the secrets of “El Guernica” of Picasso at the Reina Sofia Museum with Be International Students! \nThe “Be Art” program of Be International Students\, offers you a guided tour in English and Spanish. To get to know in depth the work of the master Pablo Picasso\, focusing on “El Guernica”\, at the Reina Sofia National Museum with the help of our student guide. \nGuernica is considered one of the greatest artistic pleas against barbarism and war. It is a work full of secrets and curiosities that has become one of the most important artistic critical expressions of the Spanish Civil War and one of the most emblematic\, admired\, and visited works of 20th-century Spanish art. \nA work of spectacular dimensions (349.3 x 776.6 cm) commissioned for the Republican pavilion in Paris at the 1937 Paris International Exposition\, it subsequently traveled to Great Britain and the USA – where it was exhibited at the MoMA – until its arrival in Spain after Franco’s dictatorship in 1981. \nOur visit to the work and the sketches and photographic documents about its creation will help you discover the great secrets of this work. Do you know how much the artist charged for this work? Can you recognize the women who appear in his work? Why does one of them burn in flames? What is the significance of the lamp that crowns the painting? \nAll this and much more from our expert guide from the “Be Art” program – Melina Fernández. \nAfterward\, in the event ‘Reflecting on Art’. We will have a drink and a tapa in a nearby venue to resolve doubts and debate the works. \nProgram: \n\n7:15 PM Meeting at the main entrance of the Reina Sofia Museum\n7:30 PM Beginning of the guided tour (English and Spanish)\n9:00 PM Commenting on the work with a drink* and a tapa in a nearby venue. (* wine\, soft drink or beer)\n10:00 PM End of the event\n\nIncludes: \n\nEntrance to the Reina Sofia Museum\nGuided tour (English and Spanish) by an expert student in Art.\n‘Reflecting on Art’ event\nDrinks (wine\, soft drink\, or beer) and tapa\nBe International Staff\n\nPrecio / Price: 10 €\nPrecio especial con tarjeta Wallet comunidad de Be International Students / Special Price for members of the Be International Students community : 8 €\nConsigue tu tarjeta Wallet de miembro de la comunidad de Be International Students en este enlace / Get your Be International Students community membership wallet card by following this link
URL:https://bemadrid.com/evento/los-secretos-de-el-guernica-de-picasso/
LOCATION:Museo Reina Sofia\, Calle Santa Isabel\, 52\, Madrid\, Madrid\, 28012\, España
CATEGORIES:Actividades,Art,Arte,Be Art,Cultural,Visita Museo
ATTACH;FMTTYPE=image/jpeg:https://bemadrid.com/wp-content/uploads/2023/12/Banner_Guernica_Abril24.jpg
ORGANIZER;CN="Be International Students - Madrid":MAILTO:info@bemadrid.com
END:VEVENT
END:VCALENDAR