BEGIN:VCALENDAR
VERSION:2.0
PRODID:-//Be International Students - ECPv6.5.0//NONSGML v1.0//EN
CALSCALE:GREGORIAN
METHOD:PUBLISH
X-WR-CALNAME:Be International Students
X-ORIGINAL-URL:https://bemadrid.com
X-WR-CALDESC:Eventos para Be International Students
REFRESH-INTERVAL;VALUE=DURATION:PT1H
X-Robots-Tag:noindex
X-PUBLISHED-TTL:PT1H
BEGIN:VTIMEZONE
TZID:Europe/Madrid
BEGIN:DAYLIGHT
TZOFFSETFROM:+0100
TZOFFSETTO:+0200
TZNAME:CEST
DTSTART:20250330T010000
END:DAYLIGHT
BEGIN:STANDARD
TZOFFSETFROM:+0200
TZOFFSETTO:+0100
TZNAME:CET
DTSTART:20251026T010000
END:STANDARD
END:VTIMEZONE
BEGIN:VEVENT
DTSTART;TZID=Europe/Madrid:20250329T073000
DTEND;TZID=Europe/Madrid:20250330T230000
DTSTAMP:20260423T105633
CREATED:20241216T104327Z
LAST-MODIFIED:20241217T101647Z
UID:12225-1743233400-1743375600@bemadrid.com
SUMMARY:Tesoros de Andalucía - Granada y Córdoba - 29 y 30 marzo
DESCRIPTION:Acompaña a Be International Students a conocer los Tesoros de Andalucía – Granada y Córdoba\, dos ciudades de que te enamorarán con su rica historia\, su impresionante arquitectura y su gastronomía! \nComenzaremos en Granada\, una ciudad con una herencia Nazarí que se vislumbra en la Alhambra\, un complejo de jardines\, palacio y fortaleza\, con imponentes vistas panorámicas\, y el Albayzín\, con sus calles estrechas y casas blancas que te transportarán al esplendor de la historia árabe de España. \nEn Granada\, cada bebida viene acompañada de una tapa gratuita\, una tradición que te permitirá probar una variedad de delicias locales en infinidad de bares. \nTendrás la oportunidad de explorar la encantadora Plaza Nueva\, el bullicioso mercado de Alcaicería y sumergirte en la vida nocturna del Paseo de los Tristes. \n \nDespués nos vamos a Córdoba\, ciudad milenaria que posee el segundo casco histórico más grande de Europa\, el mayor espacio urbano del mundo declarado Patrimonio de la Humanidad por la Unesco. Con su legado cultural diverso\, invita a explorar la imponente Mezquita-Catedral\, un magnífico símbolo de la convivencia de diversas culturas a lo largo de los siglos. Además\, el barrio de la Judería te sumerge en calles estrechas llenas de encanto\, donde la arquitectura y las tradiciones locales crean una experiencia única. \nEn esta ciudad\, que durante el Califato de Córdoba fue una de las ciudades mas opulentas y pobladas de Europa\, conocerás sus imponentes y floridos patios\, el Alcázar de los Reyes Cristianos\, el Puente Romano que cruza el río Guadalquivir y conecta la ciudad con su pasado romano e infinidad de monumentos y yacimientos arqueológicos. \nLa gastronomía cordobesa es otra joya que no te puedes perder. Prueba el salmorejo\, el flamenquín o el rabo de toro para disfrutar de auténticos sabores locales. \n¡Explora estos dos tesoros de Andalucía y retén en tu retina y tu memoria recuerdos inolvidables! \nPrograma: \nDía 1: \n\n7:30 Encuentro en el Hotel Mediodía(Pl. del Emperador Carlos V\, 8\, 28012 Madrid)\n7:45   Salida hacia Granada\n13:45 Llegada a Granada\n15:30 Check-in Hostel\n16:30 Walking Tour\n\nDia 2: \n\n12:30 Salida hacia Córdoba\n14:30 llegada a Córdoba y tiempo libre para visitarla y comer.\n18:00  Salida hacia Madrid\n23:00 Llegada prevista a Madrid \n\nIncluye: \n\nAutobús privado\nVisita a Granada\nAlojamiento en Granada\nVisita a Córdoba\nStaff de Be International Students\nSeguro de responsabilidad civil\n\n  \nJoin Be International Students in Granada and Cordoba\, two treasures that will captivate you with their rich history\, impressive architecture\, and gastronomy! \nWe will start in Granada\, a city with a Nasrid heritage evident in the Alhambra\, a complex of gardens\, palaces\, and fortresses with breathtaking panoramic views\, and the Albayzín\, with its narrow streets and white houses that will transport you to the splendor of Spain’s Arab history. \nIn Granada\, every drink comes with a free tapa\, a tradition that allows you to taste a variety of local delights in countless bars. \nYou will have the opportunity to explore the charming Plaza Nueva\, the bustling Alcaicería market\, and immerse yourself in the nightlife of the Paseo de los Tristes. \nNext\, we go to Córdoba\, a millennia-old city with the second-largest historic center in Europe\, the largest urban area in the world declared a UNESCO World Heritage Site. With its diverse cultural legacy\, it invites you to explore the impressive Mosque-Cathedral\, a magnificent symbol of the coexistence of various cultures over the centuries. Additionally\, the Jewish Quarter immerses you in narrow charming streets where architecture and local traditions create a unique experience. \nIn this city\, which was one of the wealthiest and most populous in Europe during the Caliphate of Cordoba\, you will discover its imposing and flowery courtyards\, the Alcázar de los Reyes Cristianos\, the Roman Bridge spanning the Guadalquivir River\, connecting the city to its Roman past\, and countless monuments and archaeological sites. \nCordoban cuisine is another gem you shouldn’t miss. Try the salmorejo\, flamenquín\, or rabo de toro to savor authentic local flavors. \nExplore these two treasures of Andalusia and retain unforgettable memories in your eyes and your memory! \nProgram:  \n\n7:30   Meet at Hotel Mediodía (Pl. del Emperador Carlos V\, 8\, 28012 Madrid)\n7:45   Departure to Granada\n13:45 Arrival to Granada\n15:30 Check-in Hostel\n16:30 Walking Tour\n\nDay 2: \n\n12:30 Departure to Córdoba\n14:30 Arrival to Córdoba\n18:00  Departure to Madrid\n23:00 Estimated arrival to Madrid \n\nIncludes: \n\nPrivate bus\nVisit to Granada\nHostel in Granada\nVisit to Córdoba\nStaff of Be International Students\nLiability insurance\n\nPrecio / Price: 155€\nPrecio especial con tarjeta Wallet comunidad de Be International Students / Special Price for members of the Be International Community: 149€\nConsigue tu tarjeta Wallet de miembro de la comunidad de Be International Students en este enlace / Get your Be International Students community membership wallet card by following this link\nEncuentra otros viajes y actividades que organizamos para ti en este link
URL:https://bemadrid.com/evento/tesoros-de-andalucia-29-30-mar/
CATEGORIES:Córdoba,Granada,Viaje fin de semana
ATTACH;FMTTYPE=image/png:https://bemadrid.com/wp-content/uploads/2024/12/10.png
ORGANIZER;CN="Be International Students - Madrid":MAILTO:info@bemadrid.com
END:VEVENT
END:VCALENDAR