BEGIN:VCALENDAR
VERSION:2.0
PRODID:-//Be International Students - ECPv6.5.0//NONSGML v1.0//EN
CALSCALE:GREGORIAN
METHOD:PUBLISH
X-ORIGINAL-URL:https://bemadrid.com
X-WR-CALDESC:Eventos para Be International Students
REFRESH-INTERVAL;VALUE=DURATION:PT1H
X-Robots-Tag:noindex
X-PUBLISHED-TTL:PT1H
BEGIN:VTIMEZONE
TZID:Europe/Madrid
BEGIN:DAYLIGHT
TZOFFSETFROM:+0100
TZOFFSETTO:+0200
TZNAME:CEST
DTSTART:20250330T010000
END:DAYLIGHT
BEGIN:STANDARD
TZOFFSETFROM:+0200
TZOFFSETTO:+0100
TZNAME:CET
DTSTART:20251026T010000
END:STANDARD
END:VTIMEZONE
BEGIN:VEVENT
DTSTART;TZID=Europe/Madrid:20250324T210000
DTEND;TZID=Europe/Madrid:20250324T230000
DTSTAMP:20260423T083105
CREATED:20241216T181543Z
LAST-MODIFIED:20250321T083809Z
UID:12313-1742850000-1742857200@bemadrid.com
SUMMARY:BeBABEL Karaoke: Language & Cultural Exchange - 24 MAR
DESCRIPTION:BeBABEL Karaoke Special Edition: El lenguage&cultural exchange de Be International Students esta vez en formato Karaoke – ¡No te lo pierdas! \n¡Te esperamos en BAM Karaoke donde vamos a retarte en una emocionante sesión\, a cantar los éxitos del pop español más internacional! Ubicado en la calle Luchana\, 20 (metro Bilbao). \nNuestro evento te ofrece una oportunidad única para practicar tu idioma español o el inglés\, conocer a gente nueva y empezar a hacer networking con gente de todo el mundo y acercarte\, un poco más\, a la cultura española y en especial de nuestra maravillosa ciudad\, Madrid. \nY después de habernos demostrado tus dotes cantarinas (habrá premios para los mejores)… \nAfter-Party en Teatro Barceló \nTras el intercambio y la sesión de karaoke\, nos dirigiremos a Teatro Barceló\, donde disfrutaremos de la famosa fiesta Rosalinda. ¿Qué mejor manera de terminar la noche que bailando y disfrutando de la vida nocturna madrileña? \n  \nPrograma BeBABEL Language & Cultural Exchange: \n\n8:45 PM Comienzo de recepción de participantes (Se ruega puntualidad)\n9:00 PM Inicio del intercambio lingüístico\n9:15 PM Presentación de los participantes e inicio de actividades lúdicas\n11:00 PM Fin del intercambio de idiomas\n\nIncluye: \n\nConsumición de (Vino\, cerveza o refresco). También hay la posibilidad de copa.\nActividades participativas\nPersonal de Be International Students\nAcceso preferente a la fiesta Embassy en Teatro Barceló (Para usuarios de Be International Students Wallet Card – A partir de las 12h.)\n\n \nEnglish version: \nBeBABEL Karaoke Special Edition: The language&cultural exchange of Be International Students this time in Karaoke format – Don’t miss it! \nWe are waiting for you at BAM Karaoke where we are going to challenge you\, in an exciting session\, to sing the most international Spanish pop hits! Located at Calle Luchana\, 20 (metro Bilbao). \nOur event offers you a unique opportunity to practice your Spanish or English language\, meet new people and start networking with people from all over the world and get a little closer to the Spanish culture and especially to our wonderful city\, Madrid. \nAnd after you have shown us your singing skills (there will be prizes for the best ones)… \nAfter-Party at Teatro Barceló \nAfter the exchange and the karaoke session\, we will head to Teatro Barceló\, where we will enjoy the famous Rosalinda party. What better way to end the night than dancing and enjoying Madrid’s nightlife? \nProgram: \n\n8:45 PM Start of reception of participants (Please be punctual)\n9:00 PM Start of language exchange\n9:15 PM Introduction of participants and start of recreational activities\n11:00 PM End of language exchange\n\nIncluded: \n\nDrinks (wine\, beer or soft drink)\nParticipatory activities\nBe International staff\nPreferential access to the Embassy party at Teatro Barceló (For Be International Students Wallet Card users – From 12:00 noon).\n\nPrecio / Price: 8€ (with our Wallet Card) – 10€ (for one beer\, wine or soft drinks)  \nENTRADA CON DESCUENTO SOLO PARA QUIENES TENGAN LA TARJETA WALLET DE BE INTERNATIONAL STUDENTS. Es gratis y te dará descuentos\, ventajas y beneficios en nuestras actividades de nightlife y mucho más. \nENTRANCE WITH DISCOUNT ONLY FOR THOSE WHO HAVE THE BE INTERNATIONAL STUDENTS WALLET CARD. It is free and will give you discounts\, advantages and benefits in our nightlife activities and much more. \nConsigue tu tarjeta Wallet de miembro de la comunidad de Be International Students en este enlace  \nGet your Be International Students community membership wallet card by following this link \nEncuentra otras actividades y viajes que hemos organizado para ti en este link \nNO TE QUEDES SIN TU ENTRADA! PUEDES PAGAR EN EL EVENTO SIEMPRE QUE QUEDEN PLAZAS! \nDON’T MISS OUT ON YOUR TICKET! YOU CAN PAY AT THE EVENT AS LONG AS THERE ARE STILL PLACES LEFT!
URL:https://bemadrid.com/evento/bebabel-karaoke-language-cultural-exchange/
LOCATION:BAM Karaoke Box\, Calle Luchana 20\, 28010\, España
CATEGORIES:Actividades,BeBABEL,Cultural Exchange,Intercambio Cultural,Intercambio de Idiomas,Language exchange,Rooftop
ATTACH;FMTTYPE=image/jpeg:https://bemadrid.com/wp-content/uploads/2024/09/Banner_BeBABEL_BAM_Karaoke_0710.jpg
ORGANIZER;CN="Be International Students - Madrid":MAILTO:info@bemadrid.com
END:VEVENT
END:VCALENDAR